BEGIN:VCALENDAR
VERSION:2.0
PRODID:-//Wassermühle Karoxbostel - ECPv6.15.20//NONSGML v1.0//EN
CALSCALE:GREGORIAN
METHOD:PUBLISH
X-WR-CALNAME:Wassermühle Karoxbostel
X-ORIGINAL-URL:https://www.wassermuehle-karoxbostel.de
X-WR-CALDESC:Veranstaltungen für Wassermühle Karoxbostel
REFRESH-INTERVAL;VALUE=DURATION:PT1H
X-Robots-Tag:noindex
X-PUBLISHED-TTL:PT1H
BEGIN:VTIMEZONE
TZID:Europe/Berlin
BEGIN:DAYLIGHT
TZOFFSETFROM:+0100
TZOFFSETTO:+0200
TZNAME:CEST
DTSTART:20240331T010000
END:DAYLIGHT
BEGIN:STANDARD
TZOFFSETFROM:+0200
TZOFFSETTO:+0100
TZNAME:CET
DTSTART:20241027T010000
END:STANDARD
BEGIN:DAYLIGHT
TZOFFSETFROM:+0100
TZOFFSETTO:+0200
TZNAME:CEST
DTSTART:20250330T010000
END:DAYLIGHT
BEGIN:STANDARD
TZOFFSETFROM:+0200
TZOFFSETTO:+0100
TZNAME:CET
DTSTART:20251026T010000
END:STANDARD
BEGIN:DAYLIGHT
TZOFFSETFROM:+0100
TZOFFSETTO:+0200
TZNAME:CEST
DTSTART:20260329T010000
END:DAYLIGHT
BEGIN:STANDARD
TZOFFSETFROM:+0200
TZOFFSETTO:+0100
TZNAME:CET
DTSTART:20261025T010000
END:STANDARD
END:VTIMEZONE
BEGIN:VEVENT
DTSTART;TZID=Europe/Berlin:20250626T200000
DTEND;TZID=Europe/Berlin:20250626T230000
DTSTAMP:20260422T194908
CREATED:20250616T064403Z
LAST-MODIFIED:20250616T064403Z
UID:10117-1750968000-1750978800@www.wassermuehle-karoxbostel.de
SUMMARY:„Die Karoxbosteler Mühle zwischen Vollmond und Sommersonne“
DESCRIPTION:An der Wassermühle Karoxbostel geht es rund \nZu einem Abend voller Musik und Gesang unter dem Titel „Die Karoxbosteler Mühle zwischen Vollmond und Sommersonne“ laden der Verein Wassermühle Karoxbostel und das Gymnasium Meckelfeld ein. Am Donnerstag\, 26. Juni\, werden die Cocert-Band und die BigBand des Gymnasiums vom Volkslied bis zum Popsong die ganze Musikgeschichte zum Thema Mühle\, Mond und Sonne intonieren. Ein Moderator wird die Besucher zum Mitsingen animieren. Die Texte werden auf einer Leinwand gezeigt\, damit auch alle mitsingen können. Das Konzert beginnt um 18 Uhr auf dem Gelände der Wassermühle Karoxbostel\, Karoxbosteler Chaussee 51\, 21218 Seevetal. Der Eintritt ist frei. Aktive des Mühlenvereins halten einen Imbiss und Getränke bereit. \n„Das wird ganz bestimmt eine runde Sache“\, verspricht Olaf Lakämper\, Schulleiter des Gymnasiums Meckelfeld. „Die jungen Musiker sind großartig! Wir freuen uns auf einen tollen Abend“\, sagt Emily Weede\, Vorsitzende des Vereins Wassermühle Karoxbostel. Für ihr Konzept sind die Veranstalter\, das Gymnasium Meckelfeld und der Verein Wassermühle Karoxbostel\, mit einem Kultursommerpreis 2025 des Landkreises Harburg ausgezeichnet worden. Der 15. gemeinsame Kultursommer des Landkreises Harburg widmet sich dem Thema „Eine runde Sache“ und findet noch bis zum 30. September statt.
URL:https://www.wassermuehle-karoxbostel.de/event/die-karoxbosteler-muehle-zwischen-vollmond-und-sommersonne/
LOCATION:Wassermühle Karoxbostel\, Karoxbosteler Chaussee 51\, Seevetal OT Karoxbostel\, 21218
ATTACH;FMTTYPE=image/png:https://www.wassermuehle-karoxbostel.de/wp-content/uploads/2025/06/Runde-Sache-2025.png
END:VEVENT
END:VCALENDAR