BEGIN:VCALENDAR
VERSION:2.0
PRODID:-//Wassermühle Karoxbostel - ECPv6.15.20//NONSGML v1.0//EN
CALSCALE:GREGORIAN
METHOD:PUBLISH
X-WR-CALNAME:Wassermühle Karoxbostel
X-ORIGINAL-URL:https://www.wassermuehle-karoxbostel.de
X-WR-CALDESC:Veranstaltungen für Wassermühle Karoxbostel
REFRESH-INTERVAL;VALUE=DURATION:PT1H
X-Robots-Tag:noindex
X-PUBLISHED-TTL:PT1H
BEGIN:VTIMEZONE
TZID:Europe/Berlin
BEGIN:DAYLIGHT
TZOFFSETFROM:+0100
TZOFFSETTO:+0200
TZNAME:CEST
DTSTART:20230326T010000
END:DAYLIGHT
BEGIN:STANDARD
TZOFFSETFROM:+0200
TZOFFSETTO:+0100
TZNAME:CET
DTSTART:20231029T010000
END:STANDARD
BEGIN:DAYLIGHT
TZOFFSETFROM:+0100
TZOFFSETTO:+0200
TZNAME:CEST
DTSTART:20240331T010000
END:DAYLIGHT
BEGIN:STANDARD
TZOFFSETFROM:+0200
TZOFFSETTO:+0100
TZNAME:CET
DTSTART:20241027T010000
END:STANDARD
BEGIN:DAYLIGHT
TZOFFSETFROM:+0100
TZOFFSETTO:+0200
TZNAME:CEST
DTSTART:20250330T010000
END:DAYLIGHT
BEGIN:STANDARD
TZOFFSETFROM:+0200
TZOFFSETTO:+0100
TZNAME:CET
DTSTART:20251026T010000
END:STANDARD
END:VTIMEZONE
BEGIN:VEVENT
DTSTART;TZID=Europe/Berlin:20240622T170000
DTEND;TZID=Europe/Berlin:20240622T190000
DTSTAMP:20260423T074846
CREATED:20240619T043834Z
LAST-MODIFIED:20240619T043911Z
UID:9585-1719075600-1719082800@www.wassermuehle-karoxbostel.de
SUMMARY:Naturkundliche Führung
DESCRIPTION:Rinder und Pferde schaffen Lebensraum für Insekten und Vögel \n\n\nEin besonderes Beweidungsprojekt mit sehr seltenen White Park-Rindern und Konik-Ponys wollen Landwirt Horst-Dieter Peters und Naturschutz-Fachmann Simon Clausing am Sonnabend\, 22. Juni\, bei einer naturkundlichen Führung in Glüsingen-Jehrden vorstellen. Treffpunkt zur Exkursion ist um 15 Uhr an der Straße „Am Mühlenbach“\, kurz hinter der Brücke über den Mühlenbach. Im Rahmen der „Woche der Natur“ der Niedersächsischen Bingo-Umweltstiftung lädt der Verein Wassermühle Karoxbostel e.V. zur Vorstellung des Beweidungsprojekts an der Flutmulde Glüsingen-Jehrden ein. Die Teilnahme an der Veranstaltung ist kostenlos. \n\n\nDer Archehof „Lütten Jehrden“ wird das Feuchtgrünland in Zukunft von White Park-Rindern und Konik-Ponys beweiden lassen. Simon Clausing von der Umweltstabsstelle der Gemeinde Seevetal erklärt vor Ort\, warum eine regelmäßige Beweidung für die Entwicklung eines artenreichen Grünlands so wichtig ist. „Im Feuchtgrünland können vor allem Rinder und Pferde – idealerweise in Kombination – zum Einsatz kommen. Die Beweidung wird nur im Sommerhalbjahr erfolgen“\, erläutert die Bürgermeisterin der Gemeinde Seevetal\, Emily Weede. Die Gemeinde Seevetal hat die Weiden an den Archehof der Familie Peters verpachtet. Im Rahmen der Führung will Archehof-Betreiber Horst-Dieter Peters den Besuchern White Park-Rinder und Koniks vorstellen. White Park-Rinder sind eine der ältesten Rinderrassen der Welt und extrem selten. Koniks gelten als eine der ursprünglichsten Ponyrassen und als direkte Nachfahren von Wildpferden. Im Anschluss an die Begehung können Besucher auf dem Archehof von den Experten erfahren\, was jeder Einzelne für den Erhalt der Biodiversität tun kann. Angeboten wird auf dem Archehof zudem eine Verkostung von leckeren Wurstsorten aus eigener Herstellung.
URL:https://www.wassermuehle-karoxbostel.de/event/naturkundliche-fuehrung/
LOCATION:Arche Hof Lütt Jehrden\, Am Mühlenbach\, Seevetal\, 21218
ATTACH;FMTTYPE=image/png:https://www.wassermuehle-karoxbostel.de/wp-content/uploads/2024/06/P1050224.png
END:VEVENT
END:VCALENDAR