BEGIN:VCALENDAR
VERSION:2.0
PRODID:-//Wassermühle Karoxbostel - ECPv6.15.20//NONSGML v1.0//EN
CALSCALE:GREGORIAN
METHOD:PUBLISH
X-WR-CALNAME:Wassermühle Karoxbostel
X-ORIGINAL-URL:https://www.wassermuehle-karoxbostel.de
X-WR-CALDESC:Veranstaltungen für Wassermühle Karoxbostel
REFRESH-INTERVAL;VALUE=DURATION:PT1H
X-Robots-Tag:noindex
X-PUBLISHED-TTL:PT1H
BEGIN:VTIMEZONE
TZID:Europe/Berlin
BEGIN:DAYLIGHT
TZOFFSETFROM:+0100
TZOFFSETTO:+0200
TZNAME:CEST
DTSTART:20220327T010000
END:DAYLIGHT
BEGIN:STANDARD
TZOFFSETFROM:+0200
TZOFFSETTO:+0100
TZNAME:CET
DTSTART:20221030T010000
END:STANDARD
BEGIN:DAYLIGHT
TZOFFSETFROM:+0100
TZOFFSETTO:+0200
TZNAME:CEST
DTSTART:20230326T010000
END:DAYLIGHT
BEGIN:STANDARD
TZOFFSETFROM:+0200
TZOFFSETTO:+0100
TZNAME:CET
DTSTART:20231029T010000
END:STANDARD
BEGIN:DAYLIGHT
TZOFFSETFROM:+0100
TZOFFSETTO:+0200
TZNAME:CEST
DTSTART:20240331T010000
END:DAYLIGHT
BEGIN:STANDARD
TZOFFSETFROM:+0200
TZOFFSETTO:+0100
TZNAME:CET
DTSTART:20241027T010000
END:STANDARD
END:VTIMEZONE
BEGIN:VEVENT
DTSTART;TZID=Europe/Berlin:20230422T120000
DTEND;TZID=Europe/Berlin:20230422T160000
DTSTAMP:20260424T000610
CREATED:20230206T091941Z
LAST-MODIFIED:20230418T050742Z
UID:8300-1682164800-1682179200@www.wassermuehle-karoxbostel.de
SUMMARY:Seevetal summt  mit Vortrag und Ausstellung über Moore
DESCRIPTION:Auch in diesem Jahr findet die Aktion „Seevetal summt“ an der Wassermühle Karoxbostel statt. \nMit Vortrag und Ausstellung: Moore in Seevetal — unentbehrlich für Klimaschutz und Artenvielfalt\nSeit jeher haben sie die Phantasie beflügelt als Orte des Verwunschenen\, des Schaurigen wie des Schönen. Aber was wissen wir eigentlich über sie: Die Moore vor unserer Haustür?\nWährend in Seevetal die Hochmoore fehlen\, wie man sie imWesten des Landkreises Harburg findet\, waren Teile der Seevetaler Landschaft noch vor wenigen Jahrzehnten durch ausgedehnte Niedermoore geprägt.\nIhre recht beachtlichen Reste finden sich\, stark bedroht\, aber voller verborgener Reize noch an zahlreichen Stellen im Gemeindegebiet. Am Rande des Elburstromtals trennte einst ein breiter\nMoorgürtel die höher gelegene Geest mit ihrer für den Großraum namengebenden Heide von dem Schwemmland der Marsch. \nEntstanden am Ende der letzten Eiszeit sind Moore nicht nur Lebensraum zahlreicher selten gewordener Tiere und Pflanzen\, sondern wurden auch schon früh vom Menschen genutzt. Seit er vor\nvor ca. 250 Jahren begonnen hat\, sie mehr und mehr und immer intensiver zu entwässern\, ist dieser einzigartige Lebensraum zusehends in Gefahr. Besonders heute\, in Zeiten globaler Erwärmung so sehr wie noch nie in den letzten 10.000 Jahren. \nMoore speichern riesige Mengen klimarelevanter Gase — solange sie nass genug sind!\nTrocknen sie aus\, entweichen die Gase und verstärken so die globale Erwärmung und damit letztlich weitere Austrocknung— ein Teufelskreis. \nDie Ausstellung gibt\, nach einer Einführung in den Lebensraum Moor und seine Eigenheiten\, einen Überblick über die Moore Seevetals\, ihre Lage\, Größe\, Beschaffenheit sowie ihren aktuellen Zustand\, und gibt differenzierte Vorschläge\, wie sie zu schützen sind.\nHier kann Seevetal einen bedeutenden Beitrag gegen Klimawandel und Artensterben leisten. Vorausgesetzt man handelt entschlossen. Die Ausstellung zeigt\, wie das gehen kann\, ohne Nachteile für\ndas Leben der Menschen in der Nachbarschaft der Moore. \nEröffnung: 22. April 2023\, 10:00 Uhr\nPresseinformation: nach der Ausstellungseröffnung\nDauer: 22. April bis 29. Mai 2023\nVeranstalter: NABUWinsen/Luhe\, in Zusammenarbeit mitWassermühle Karoxbostel e.V. \nEintritt: kostenfrei zu den Öffnungszeiten derWassermühle\nAm 22.04. und 29.05. erwarten Mitglieder des NABUWinsen Sie mit reichem Infomaterial zum\nThema Moore und beantworten gerne Ihre Fragen. \nFreuen Sie sich auf einen spannenden Tag mit Vorträgen und Saatenausgabe.
URL:https://www.wassermuehle-karoxbostel.de/event/seevetal-summt-2/
LOCATION:Wassermühle Karoxbostel\, Karoxbosteler Chaussee 51\, Seevetal OT Karoxbostel\, 21218
CATEGORIES:Vortrag
ATTACH;FMTTYPE=image/png:https://www.wassermuehle-karoxbostel.de/wp-content/uploads/2022/01/Hummel.png
END:VEVENT
END:VCALENDAR