BEGIN:VCALENDAR
VERSION:2.0
PRODID:-//Wassermühle Karoxbostel - ECPv6.15.20//NONSGML v1.0//EN
CALSCALE:GREGORIAN
METHOD:PUBLISH
X-WR-CALNAME:Wassermühle Karoxbostel
X-ORIGINAL-URL:https://www.wassermuehle-karoxbostel.de
X-WR-CALDESC:Veranstaltungen für Wassermühle Karoxbostel
REFRESH-INTERVAL;VALUE=DURATION:PT1H
X-Robots-Tag:noindex
X-PUBLISHED-TTL:PT1H
BEGIN:VTIMEZONE
TZID:Europe/Berlin
BEGIN:DAYLIGHT
TZOFFSETFROM:+0100
TZOFFSETTO:+0200
TZNAME:CEST
DTSTART:20240331T010000
END:DAYLIGHT
BEGIN:STANDARD
TZOFFSETFROM:+0200
TZOFFSETTO:+0100
TZNAME:CET
DTSTART:20241027T010000
END:STANDARD
BEGIN:DAYLIGHT
TZOFFSETFROM:+0100
TZOFFSETTO:+0200
TZNAME:CEST
DTSTART:20250330T010000
END:DAYLIGHT
BEGIN:STANDARD
TZOFFSETFROM:+0200
TZOFFSETTO:+0100
TZNAME:CET
DTSTART:20251026T010000
END:STANDARD
BEGIN:DAYLIGHT
TZOFFSETFROM:+0100
TZOFFSETTO:+0200
TZNAME:CEST
DTSTART:20260329T010000
END:DAYLIGHT
BEGIN:STANDARD
TZOFFSETFROM:+0200
TZOFFSETTO:+0100
TZNAME:CET
DTSTART:20261025T010000
END:STANDARD
END:VTIMEZONE
BEGIN:VEVENT
DTSTART;TZID=Europe/Berlin:20250914T130000
DTEND;TZID=Europe/Berlin:20250914T190000
DTSTAMP:20260422T194908
CREATED:20250819T092706Z
LAST-MODIFIED:20250819T093048Z
UID:10251-1757854800-1757876400@www.wassermuehle-karoxbostel.de
SUMMARY:Tag des offenen Denkmals ...
DESCRIPTION:… an der Wassermühle Karoxbostel.\n \nEin großartiges Tagesprogramm erwartet die Besucher:\n– stündliche Mühlenvorführungen mit vielen Informationen\n– das Venezianische Sägegatter sägt um 12\, 14 und 16 Uhr\n– schmieden in der Hofschmiede\n– leckere Grillwurst und Bier vom Fass\n– Floristin und Basteln für Kinder\n– Waffelbäckerei der Landfrauen\n– Mühlenhonig\n– Kaffee & Kuchen\n– Mühlenflohmarkt \nund vieles\, vieles mehr!
URL:https://www.wassermuehle-karoxbostel.de/event/tag-des-offenen-denkmals-an-der-wassermuehle-karoxbostel/
LOCATION:Wassermühle Karoxbostel\, Karoxbosteler Chaussee 51\, Seevetal OT Karoxbostel\, 21218
ATTACH;FMTTYPE=image/png:https://www.wassermuehle-karoxbostel.de/wp-content/uploads/2025/08/WMK_TdoD_25.png
END:VEVENT
END:VCALENDAR