BEGIN:VCALENDAR
VERSION:2.0
PRODID:-//Wassermühle Karoxbostel - ECPv6.15.20//NONSGML v1.0//EN
CALSCALE:GREGORIAN
METHOD:PUBLISH
X-WR-CALNAME:Wassermühle Karoxbostel
X-ORIGINAL-URL:https://www.wassermuehle-karoxbostel.de
X-WR-CALDESC:Veranstaltungen für Wassermühle Karoxbostel
REFRESH-INTERVAL;VALUE=DURATION:PT1H
X-Robots-Tag:noindex
X-PUBLISHED-TTL:PT1H
BEGIN:VTIMEZONE
TZID:Europe/Berlin
BEGIN:DAYLIGHT
TZOFFSETFROM:+0100
TZOFFSETTO:+0200
TZNAME:CEST
DTSTART:20240331T010000
END:DAYLIGHT
BEGIN:STANDARD
TZOFFSETFROM:+0200
TZOFFSETTO:+0100
TZNAME:CET
DTSTART:20241027T010000
END:STANDARD
BEGIN:DAYLIGHT
TZOFFSETFROM:+0100
TZOFFSETTO:+0200
TZNAME:CEST
DTSTART:20250330T010000
END:DAYLIGHT
BEGIN:STANDARD
TZOFFSETFROM:+0200
TZOFFSETTO:+0100
TZNAME:CET
DTSTART:20251026T010000
END:STANDARD
BEGIN:DAYLIGHT
TZOFFSETFROM:+0100
TZOFFSETTO:+0200
TZNAME:CEST
DTSTART:20260329T010000
END:DAYLIGHT
BEGIN:STANDARD
TZOFFSETFROM:+0200
TZOFFSETTO:+0100
TZNAME:CET
DTSTART:20261025T010000
END:STANDARD
END:VTIMEZONE
BEGIN:VEVENT
DTSTART;TZID=Europe/Berlin:20250927T130000
DTEND;TZID=Europe/Berlin:20250927T190000
DTSTAMP:20260422T194841
CREATED:20250922T062512Z
LAST-MODIFIED:20250922T063830Z
UID:10332-1758978000-1758999600@www.wassermuehle-karoxbostel.de
SUMMARY:Tage der Industriekultur an der Wassermühle
DESCRIPTION:Eine Entdeckungsreise in die Industriegeschichte der Metropolregion Hamburg gibt es am Sonnabend und Sonntag\, 27. und 28. September. Denn dann finden zum achten Mal die Tage der Industriekultur am Wasser statt – mit 200 Veranstaltungen in 100 Denkmalen an 50 Orten. Hafenanlagen\, Schleusen und Schiffe\, Leucht- und Wassertürme\, Brücken und Mühlen\, Fabriken und Kraftwerke geben Einblicke in die Welt der Industriekultur am Wasser. \n\n\nMit dabei ist die 1893 gebaute Wassermühle Karoxbostel\, eine der letzten voll funktionstüchtigen Wassermühlen in der Region. Mit ihrem Inventar ist sie ein Kleinod der ländlichen Kulturgeschichte\, das es zu entdecken gilt. An beiden Tagen\, jeweils von 11 bis 17 Uhr\, kann die Mühle in Aktion besichtigt werden. Mitglieder des Mühlenvereins führen durch das Denkmal-Ensemble. Im Sägewerk zeigen Aktive des Vereins\, wie Baumstämme zu Balken\, Bohlen oder Brettern gesägt werden. Das Backteam wird leckeren Butterkuchen aus Bio-Getreide backen\, das von den freiwilligen Müllern in der historischen Wassermühle gemahlen wurde. \n\n\nDas ausführliche Programm zu allen Anlagen und Museen der Industriegeschichte in der Metropolregion Hamburg liegt in allen teilnehmenden Denkmalen und Museen Touristik-Informationen aus. Daneben finden sich das Programm und Informationen zur Industriegeschichte im Internet unter www.tagederindustriekultur.de .
URL:https://www.wassermuehle-karoxbostel.de/event/tage-der-industriekultur-an-der-wassermuehle/
LOCATION:Wassermühle Karoxbostel\, Karoxbosteler Chaussee 51\, Seevetal OT Karoxbostel\, 21218
ATTACH;FMTTYPE=image/png:https://www.wassermuehle-karoxbostel.de/wp-content/uploads/2025/09/20250705_112127-1.png
END:VEVENT
END:VCALENDAR