BEGIN:VCALENDAR
VERSION:2.0
PRODID:-//Wassermühle Karoxbostel - ECPv6.15.20//NONSGML v1.0//EN
CALSCALE:GREGORIAN
METHOD:PUBLISH
X-ORIGINAL-URL:https://www.wassermuehle-karoxbostel.de
X-WR-CALDESC:Veranstaltungen für Wassermühle Karoxbostel
REFRESH-INTERVAL;VALUE=DURATION:PT1H
X-Robots-Tag:noindex
X-PUBLISHED-TTL:PT1H
BEGIN:VTIMEZONE
TZID:Europe/Berlin
BEGIN:DAYLIGHT
TZOFFSETFROM:+0100
TZOFFSETTO:+0200
TZNAME:CEST
DTSTART:20220327T010000
END:DAYLIGHT
BEGIN:STANDARD
TZOFFSETFROM:+0200
TZOFFSETTO:+0100
TZNAME:CET
DTSTART:20221030T010000
END:STANDARD
BEGIN:DAYLIGHT
TZOFFSETFROM:+0100
TZOFFSETTO:+0200
TZNAME:CEST
DTSTART:20230326T010000
END:DAYLIGHT
BEGIN:STANDARD
TZOFFSETFROM:+0200
TZOFFSETTO:+0100
TZNAME:CET
DTSTART:20231029T010000
END:STANDARD
BEGIN:DAYLIGHT
TZOFFSETFROM:+0100
TZOFFSETTO:+0200
TZNAME:CEST
DTSTART:20240331T010000
END:DAYLIGHT
BEGIN:STANDARD
TZOFFSETFROM:+0200
TZOFFSETTO:+0100
TZNAME:CET
DTSTART:20241027T010000
END:STANDARD
END:VTIMEZONE
BEGIN:VEVENT
DTSTART;TZID=Europe/Berlin:20230714T210000
DTEND;TZID=Europe/Berlin:20230715T000000
DTSTAMP:20260424T002527
CREATED:20230712T061148Z
LAST-MODIFIED:20230712T061420Z
UID:8960-1689368400-1689379200@www.wassermuehle-karoxbostel.de
SUMMARY:Lyrische Hausapotheke an der Wassermühle
DESCRIPTION:Johann-Heinrich Schütze gestaltet einen literarischen Abend mit Gedichten von Erich Kästner \nHumorvolle und hintergründige Gedichte von Erich Kästner wird der Hittfelder Johann-Heinrich Schütze am Freitag\, 14. Juli\, ab 19 Uhr in der Wassermühle Karoxbostel vortragen. Für „Heiner“ Schütze gehören insbesondere Erich Kästners mal nachdenklichen\, mal humoristischen\, oft satirisch formulierten gesellschafts- und zeitkritischen Gedichte\, Aphorismen und Epigramme zum Besten\, was deutsche Schriftsteller jemals zu Papier gebracht haben. Der mittlerweile 95-jährige Hittfelder beschäftigt sich seit Jahrzehnten mit dem Werk von Erich Kästner (1899-1974). Vielen sei Kästner vor allem als Verfasser erfolgreicher Kinderbücher wie „Emil und die Detektive“\, Pünktchen und Anton“\, „Das fliegende Klassenzimmer“ und „das doppelte Lottchen“ bekannt. „Doch als Schriftsteller hat er noch ganz andere Sachen im Repertoire“\, betont „Heiner“ Schütze. Beim literarischen Abend an der Wassermühle Karoxbostel will der Hittfelder den während der nationalsozialistischen Diktatur diffamierten Dichter als scharfsichtigen Gesellschaftskritiker\, standhaften Antimilitaristen sowie als aufrechten Streiter für Demokratie und europäische Werte würdigen. „Dabei spricht der Autor für sich selbst – durch seine wundervollen Gedichte“\, sagt „Heiner“ Schütze. Der Eintritt ist frei\, um eine Spende zugunsten des Mühlenvereins wird gebeten. In der Pause halten Aktive des Vereins Getränke und einen Imbiss bereit.
URL:https://www.wassermuehle-karoxbostel.de/event/lyrische-hausapotheke-an-der-wassermuehle/
LOCATION:Wassermühle Karoxbostel\, Karoxbosteler Chaussee 51\, Seevetal OT Karoxbostel\, 21218
ATTACH;FMTTYPE=image/png:https://www.wassermuehle-karoxbostel.de/wp-content/uploads/2023/07/IMG_1561.png
END:VEVENT
END:VCALENDAR