BEGIN:VCALENDAR
VERSION:2.0
PRODID:-//Wassermühle Karoxbostel - ECPv6.15.20//NONSGML v1.0//EN
CALSCALE:GREGORIAN
METHOD:PUBLISH
X-ORIGINAL-URL:https://www.wassermuehle-karoxbostel.de
X-WR-CALDESC:Veranstaltungen für Wassermühle Karoxbostel
REFRESH-INTERVAL;VALUE=DURATION:PT1H
X-Robots-Tag:noindex
X-PUBLISHED-TTL:PT1H
BEGIN:VTIMEZONE
TZID:Europe/Berlin
BEGIN:DAYLIGHT
TZOFFSETFROM:+0100
TZOFFSETTO:+0200
TZNAME:CEST
DTSTART:20230326T010000
END:DAYLIGHT
BEGIN:STANDARD
TZOFFSETFROM:+0200
TZOFFSETTO:+0100
TZNAME:CET
DTSTART:20231029T010000
END:STANDARD
BEGIN:DAYLIGHT
TZOFFSETFROM:+0100
TZOFFSETTO:+0200
TZNAME:CEST
DTSTART:20240331T010000
END:DAYLIGHT
BEGIN:STANDARD
TZOFFSETFROM:+0200
TZOFFSETTO:+0100
TZNAME:CET
DTSTART:20241027T010000
END:STANDARD
BEGIN:DAYLIGHT
TZOFFSETFROM:+0100
TZOFFSETTO:+0200
TZNAME:CEST
DTSTART:20250330T010000
END:DAYLIGHT
BEGIN:STANDARD
TZOFFSETFROM:+0200
TZOFFSETTO:+0100
TZNAME:CET
DTSTART:20251026T010000
END:STANDARD
END:VTIMEZONE
BEGIN:VEVENT
DTSTART;TZID=Europe/Berlin:20241115T200000
DTEND;TZID=Europe/Berlin:20241115T220000
DTSTAMP:20260422T234543
CREATED:20240103T121820Z
LAST-MODIFIED:20241105T170426Z
UID:9245-1731700800-1731708000@www.wassermuehle-karoxbostel.de
SUMMARY:Mörderisch gute Unterhaltung bei der 8. Kriminacht in Karoxbostel
DESCRIPTION:  \n\n \n\nKrimi-Fans dürfen sich wieder auf knisternde Spannung und schwarzen Humor freuen: Unter dem Motto: „Der Mörder ist immer der Gärtner?“ entführt Gabriele Schwedewsky ihre Zuhörer bei der 8. Karoxbosteler Kriminacht am Freitag\, 15. November\, wieder in die dunkle Welt des Verbrechens. Ab 19 Uhr ist mörderisch gute Unterhaltung in der historischen Wassermühle Karoxbostel an der Karoxbosteler Chaussee 51 garantiert. Am prasselnden Kaminfeuer in der Tenne des 200 Jahre alten Bauernhauses geht es diesmal um Liebe\, Leidenschaft und Rache. „Diesmal habe ich besonders humorvolle Krimis ausgesucht\, es darf herzhaft gelacht werden“\, verrät die Profi-Erzählerin aus Hittfeld. \n\n\nDas Böse lauert überall\, aber bei der Karoxbosteler Kriminacht wird es zum gefeierten literarischen Motiv. Die Kriminacht mit Gabriele Schwedewsky am Deutschen Vorlesetag in der Wassermühle ist mittlerweile für viele Krimifans zu einem Kult-Termin geworden. „Obwohl es um so etwas Abgründiges wie Mord und Totschlag geht\, kommt der Humor dabei nicht zu kurz“\, sagt Gabriele Schwedewsky. Das Publikum darf miträtseln\, wer der Täter ist. Finstere Begierden und dunkle Pläne werden die Zuhörer wieder in ihren Bann ziehen – aber am Ende wird gelacht. In Karoxbostel werden keine ganz harten Krimis zu hören sein: „Schließlich sollen sich die Zuhörer nach dem gut einstündigen Programm auch noch von der einsam gelegenen Mühle nach Hause trauen“\, sagt die bekannte Erzählerin. \n\n\nDer Eintritt kostet fünf Euro. In der Pause stehen Glühwein\, kalte Getränke und leckere Erbsensuppe für Besucher bereit. Sämtliche Einnahmen kommen der weiteren Restaurierung der Wassermühle zugute. Karten können bei Gabriele Schwedewsky unter der Rufnummer 0160 95547576 vorbestellt werden. \n\n\nDas gesamte  Karoxbosteler Mühlen-Team freut sich auf Ihren Besuch und wünscht Ihnen schon heute einen unterhaltsamen Krimi-Abend an der Wassermühle Karoxbostel.
URL:https://www.wassermuehle-karoxbostel.de/event/kriminacht-in-karoxbostel-4/
LOCATION:Wassermühle Karoxbostel\, Karoxbosteler Chaussee 51\, Seevetal OT Karoxbostel\, 21218
ATTACH;FMTTYPE=image/png:https://www.wassermuehle-karoxbostel.de/wp-content/uploads/2024/01/Kriminacht_2024-1.png
END:VEVENT
END:VCALENDAR