BEGIN:VCALENDAR
VERSION:2.0
PRODID:-//Wassermühle Karoxbostel - ECPv6.15.20//NONSGML v1.0//EN
CALSCALE:GREGORIAN
METHOD:PUBLISH
X-ORIGINAL-URL:https://www.wassermuehle-karoxbostel.de
X-WR-CALDESC:Veranstaltungen für Wassermühle Karoxbostel
REFRESH-INTERVAL;VALUE=DURATION:PT1H
X-Robots-Tag:noindex
X-PUBLISHED-TTL:PT1H
BEGIN:VTIMEZONE
TZID:Europe/Berlin
BEGIN:DAYLIGHT
TZOFFSETFROM:+0100
TZOFFSETTO:+0200
TZNAME:CEST
DTSTART:20240331T010000
END:DAYLIGHT
BEGIN:STANDARD
TZOFFSETFROM:+0200
TZOFFSETTO:+0100
TZNAME:CET
DTSTART:20241027T010000
END:STANDARD
BEGIN:DAYLIGHT
TZOFFSETFROM:+0100
TZOFFSETTO:+0200
TZNAME:CEST
DTSTART:20250330T010000
END:DAYLIGHT
BEGIN:STANDARD
TZOFFSETFROM:+0200
TZOFFSETTO:+0100
TZNAME:CET
DTSTART:20251026T010000
END:STANDARD
BEGIN:DAYLIGHT
TZOFFSETFROM:+0100
TZOFFSETTO:+0200
TZNAME:CEST
DTSTART:20260329T010000
END:DAYLIGHT
BEGIN:STANDARD
TZOFFSETFROM:+0200
TZOFFSETTO:+0100
TZNAME:CET
DTSTART:20261025T010000
END:STANDARD
END:VTIMEZONE
BEGIN:VEVENT
DTSTART;TZID=Europe/Berlin:20250207T200000
DTEND;TZID=Europe/Berlin:20250207T223000
DTSTAMP:20260422T195423
CREATED:20250203T162635Z
LAST-MODIFIED:20250203T162635Z
UID:9849-1738958400-1738967400@www.wassermuehle-karoxbostel.de
SUMMARY:Filmabend in Karoxbostel: So war das Leben der Heidjer
DESCRIPTION:Zu einem gemütlichen Filmabend am Freitag\, 7. Februar\, lädt der Verein Wassermühle Karoxbostel ein. Ab 19 Uhr wird im beheizten ehemaligen Schweinestall der Film „Die Heide stirbt“ von 1931 gezeigt. Einlass ist ab 18.30 Uhr. Der Schwarz-Weiß-Film bietet interessante Einblicke in die Lebenswelt der Heidebewohner zur Zeit der beginnenden Modernisierung. „De nee´e Tied un ne annere Mood\, geiht öwer de Heid und bringt ehr den Dood” – so die Überschrift in dem über 90 Jahre alten Film. Präsentiert werden Natur- und Landschaftsaufnahmen aus Heide\, Moor und Geest im ehemaligen Landkreis Zeven. Das historische Bildmaterial ist eine einzigartige Dokumentation über das Leben und Arbeiten der Menschen in Landwirtschaft und Handwerk\, aber auch die Trachten\, Feste und Bräuche werden gezeigt. \nDer Film entstand 1931–1932 auf Anregung der Lehrervereinigung des Altkreises Zeven. Nach dem Zweiten Weltkrieg wären die Filmrollen beinahe verlorengegangen. Der 1996 verstorbene Heimatforscher Wilhelm Vieths senior aus Freetz (Landkreis Rotenburg/Wümme) hatte den 36-Millimeter-Film aus Celluloid in der originalen Länge bereits vor dem Zweiten Weltkrieg einige Male in Sittensen vorgeführt. Nach dem Krieg kam er noch zwei oder drei Mal zur Vorführung. Das Filmmaterial wurde dann aber so schlecht\, dass er wegen der hohen Brandgefahr nicht mehr gezeigt werden durfte.1972 wurden in einem Filminstitut in Göttingen die noch zu gebrauchenden Teile des Films auf 13-Millimeter-Film kopiert. Vom ursprünglichen Film ist nicht einmal die Hälfte übrig geblieben. 1973 konnte Wilhelm Vieths senior die neue Kopie erstmals vorführen. 1984 wurde der Film von der Kreisbildstelle Bremervörde auf Videoband kopiert. Wilhelm Vieths senior hat dazu auf Plattdeutsch gesprochen. Nach dem Tod des Heimatforschers sorgte sein Sohn Wilhelm Vieths junior dafür\, dass der inzwischen auf DVD kopierte Film einem breiteren Publikum bekannt wurde. \nDer Eintritt zum gemütlichen Filmabend an der Wassermühle ist frei\, um eine Spende für die Mühle wird gebeten. Aktive des Mühlenvereins sorgen wieder für einen kleinen Imbiss und Getränke.
URL:https://www.wassermuehle-karoxbostel.de/event/filmabend-in-karoxbostel-so-war-das-leben-der-heidjer/
LOCATION:Wassermühle Karoxbostel\, Karoxbosteler Chaussee 51\, Seevetal OT Karoxbostel\, 21218
ATTACH;FMTTYPE=image/png:https://www.wassermuehle-karoxbostel.de/wp-content/uploads/2021/10/Leitbild-WMK-2.png
END:VEVENT
END:VCALENDAR