BEGIN:VCALENDAR
VERSION:2.0
PRODID:-//Wassermühle Karoxbostel - ECPv6.15.20//NONSGML v1.0//EN
CALSCALE:GREGORIAN
METHOD:PUBLISH
X-WR-CALNAME:Wassermühle Karoxbostel
X-ORIGINAL-URL:https://www.wassermuehle-karoxbostel.de
X-WR-CALDESC:Veranstaltungen für Wassermühle Karoxbostel
REFRESH-INTERVAL;VALUE=DURATION:PT1H
X-Robots-Tag:noindex
X-PUBLISHED-TTL:PT1H
BEGIN:VTIMEZONE
TZID:Europe/Berlin
BEGIN:DAYLIGHT
TZOFFSETFROM:+0100
TZOFFSETTO:+0200
TZNAME:CEST
DTSTART:20230326T010000
END:DAYLIGHT
BEGIN:STANDARD
TZOFFSETFROM:+0200
TZOFFSETTO:+0100
TZNAME:CET
DTSTART:20231029T010000
END:STANDARD
BEGIN:DAYLIGHT
TZOFFSETFROM:+0100
TZOFFSETTO:+0200
TZNAME:CEST
DTSTART:20240331T010000
END:DAYLIGHT
BEGIN:STANDARD
TZOFFSETFROM:+0200
TZOFFSETTO:+0100
TZNAME:CET
DTSTART:20241027T010000
END:STANDARD
BEGIN:DAYLIGHT
TZOFFSETFROM:+0100
TZOFFSETTO:+0200
TZNAME:CEST
DTSTART:20250330T010000
END:DAYLIGHT
BEGIN:STANDARD
TZOFFSETFROM:+0200
TZOFFSETTO:+0100
TZNAME:CET
DTSTART:20251026T010000
END:STANDARD
END:VTIMEZONE
BEGIN:VEVENT
DTSTART;VALUE=DATE:20240816
DTEND;VALUE=DATE:20240918
DTSTAMP:20260423T010753
CREATED:20240807T042017Z
LAST-MODIFIED:20240911T120539Z
UID:9633-1723773600-1726538399@www.wassermuehle-karoxbostel.de
SUMMARY:Aquarell-Ausstellung »Nachgehangen« von Kerstin Killmer\, 16.8. bis 16.9.2024
DESCRIPTION:Große Aquarell-Ausstellung »Nachgehangen« von Kerstin Killmer vom 16. August bis 16. September 2024 in der Karoxbosteler Wassermühle \n\n\nDie renommierte lokale Künstlerin Kerstin Killmer lädt Kunstliebhaber und Kulturinteressierte zur Eröffnung ihrer neuesten Ausstellung ein. Unter dem Titel »Nachgehangen« präsentiert Killmer eine beeindruckende Kollektion von Aquarellen und Zeichnungen\, die über die letzten Jahre entstanden sind und verschiedene thematische Schwerpunkte beleuchten. \n\n\nDie Vernissage findet am Freitag 16. August 2024\, von 18:30 bis 21:00 Uhr in der Karoxbosteler Wassermühle statt. Besucher können nicht nur exklusive Einblicke in die Werke der Künstlerin gewinnen\, sondern auch die Gelegenheit nutzen\, mit ihr persönlich ins Gespräch zu kommen. Für musikalische Untermalung sorgt die Sängerin Annette Ferenczi\, die den Abend mit klassischen und zeitgenössischen Stücken bereichert. \n\n\nKerstin Killmers Aquarelle sind bekannt für ihre dynamische Farbgebung und die Fähigkeit\, Emotionen und Atmosphären einzufangen. »Diese Ausstellung ist eine Reflektion meiner künstlerischen Auseinandersetzung mit Themen wie Natur\, Sehen und Stillleben«\, erklärt Killmer. »Jedes Bild erzählt eine eigene Geschichte\, die oft über das Sichtbare hinausgeht und zum genauen Hinschauen anregt.« \n\n\nDie Ausstellung »Nachgehangen« ist bis 16. September 2024 in der Karoxbosteler Wassermühle zu sehen. Dies bietet Interessierten die Möglichkeit\, die Kunstwerke in Ruhe zu betrachten und sich von der Vielfalt und Tiefe von Killmers Schaffen inspirieren zu lassen. \n\n\nAußerdem ist die Ausstellung auch am »Tag des Denkmals« am Sonntag 8. September 2024 von 11 bis 17 Uhr geöffnet.
URL:https://www.wassermuehle-karoxbostel.de/event/aquarell-ausstellung-nachgehangen-von-kerstin-killmer-2/
LOCATION:Wassermühle Karoxbostel\, Karoxbosteler Chaussee 51\, Seevetal OT Karoxbostel\, 21218
END:VEVENT
BEGIN:VEVENT
DTSTART;TZID=Europe/Berlin:20240908T130000
DTEND;TZID=Europe/Berlin:20240908T190000
DTSTAMP:20260423T010753
CREATED:20220711T094323Z
LAST-MODIFIED:20240103T121505Z
UID:8009-1725800400-1725822000@www.wassermuehle-karoxbostel.de
SUMMARY:Tag des offenen Denkmals
DESCRIPTION:an der Wassermühle Karoxbostel. \nEin großartiges Tagesprogramm erwartet die Besucher:\n– stündliche Mühlenvorführungen mit vielen Informationen\n– das Venezianische Sägegatter sägt um 12\, 14 und 16 Uhr\n– schmieden in der Hofschmiede\n– leckere Grillwurst und Bier vom Fass\n– Floristin und Basteln für Kinder\n– Mühlenhonig\n– Kaffee & Kuchen\n– Mühlenflohmarkt \nund vieles\, vieles mehr!
URL:https://www.wassermuehle-karoxbostel.de/event/tag-des-offenen-denkmals/
LOCATION:Wassermühle Karoxbostel\, Karoxbosteler Chaussee 51\, Seevetal OT Karoxbostel\, 21218
ATTACH;FMTTYPE=image/jpeg:https://www.wassermuehle-karoxbostel.de/wp-content/uploads/2021/11/2013-09-08.jpg
END:VEVENT
BEGIN:VEVENT
DTSTART;TZID=Europe/Berlin:20240914T210000
DTEND;TZID=Europe/Berlin:20240914T230000
DTSTAMP:20260423T010753
CREATED:20240807T043331Z
LAST-MODIFIED:20240911T120453Z
UID:9645-1726347600-1726354800@www.wassermuehle-karoxbostel.de
SUMMARY:Neuseeland-Abend mit Conny Schramm
DESCRIPTION:Conny und Andy berichten von Begegnungen in Neuseeland. \nBeginn 19 Uhr. \nWir freuen uns auf eine abwechslungsreiche und schöne Veranstaltung!
URL:https://www.wassermuehle-karoxbostel.de/event/neuseeland-abend-mit-conny-schramm/
LOCATION:Wassermühle Karoxbostel\, Karoxbosteler Chaussee 51\, Seevetal OT Karoxbostel\, 21218
ATTACH;FMTTYPE=image/png:https://www.wassermuehle-karoxbostel.de/wp-content/uploads/2022/02/Conny-Schramm-DSC_4367.png
END:VEVENT
BEGIN:VEVENT
DTSTART;TZID=Europe/Berlin:20240928T180000
DTEND;TZID=Europe/Berlin:20240928T210000
DTSTAMP:20260423T010753
CREATED:20240911T120008Z
LAST-MODIFIED:20240918T091417Z
UID:9717-1727546400-1727557200@www.wassermuehle-karoxbostel.de
SUMMARY:Konzert zum Kultursommer
DESCRIPTION:Carter-Family zum Mitsingen! \nMit Lukas & Lukas  und Friedhelm Peper. \nWir freuen uns auf eine abwechslungsreiche und schöne Veranstaltung!
URL:https://www.wassermuehle-karoxbostel.de/event/konzert-zum-kultursommer/
LOCATION:Wassermühle Karoxbostel\, Karoxbosteler Chaussee 51\, Seevetal OT Karoxbostel\, 21218
END:VEVENT
END:VCALENDAR