BEGIN:VCALENDAR
VERSION:2.0
PRODID:-//Wassermühle Karoxbostel - ECPv6.15.20//NONSGML v1.0//EN
CALSCALE:GREGORIAN
METHOD:PUBLISH
X-ORIGINAL-URL:https://www.wassermuehle-karoxbostel.de
X-WR-CALDESC:Veranstaltungen für Wassermühle Karoxbostel
REFRESH-INTERVAL;VALUE=DURATION:PT1H
X-Robots-Tag:noindex
X-PUBLISHED-TTL:PT1H
BEGIN:VTIMEZONE
TZID:Europe/Berlin
BEGIN:DAYLIGHT
TZOFFSETFROM:+0100
TZOFFSETTO:+0200
TZNAME:CEST
DTSTART:20240331T010000
END:DAYLIGHT
BEGIN:STANDARD
TZOFFSETFROM:+0200
TZOFFSETTO:+0100
TZNAME:CET
DTSTART:20241027T010000
END:STANDARD
BEGIN:DAYLIGHT
TZOFFSETFROM:+0100
TZOFFSETTO:+0200
TZNAME:CEST
DTSTART:20250330T010000
END:DAYLIGHT
BEGIN:STANDARD
TZOFFSETFROM:+0200
TZOFFSETTO:+0100
TZNAME:CET
DTSTART:20251026T010000
END:STANDARD
BEGIN:DAYLIGHT
TZOFFSETFROM:+0100
TZOFFSETTO:+0200
TZNAME:CEST
DTSTART:20260329T010000
END:DAYLIGHT
BEGIN:STANDARD
TZOFFSETFROM:+0200
TZOFFSETTO:+0100
TZNAME:CET
DTSTART:20261025T010000
END:STANDARD
END:VTIMEZONE
BEGIN:VEVENT
DTSTART;TZID=Europe/Berlin:20250321T200000
DTEND;TZID=Europe/Berlin:20250321T223000
DTSTAMP:20260422T165635
CREATED:20250203T163236Z
LAST-MODIFIED:20250314T095206Z
UID:9855-1742587200-1742596200@www.wassermuehle-karoxbostel.de
SUMMARY:Theater und Musik „Der Stein\, die Müllerin” – Künstlerische Zeitreise in der alten Mühle
DESCRIPTION:Theater und Musik werden zum Frühlingsanfang am Freitag\, 21. März\, um 19 Uhr in der Wassermühle Karoxbostel geboten. In dem Stück „Der Stein\, die Müllerin“ geht es um eine alte Getreidemühle in Zeetze (Wendland). Schon im Mittelalter gab es in Zeetze eine Getreidemühle. 1794 wurde die heutige Wassermühle errichtet\, also zu Napoleons Zeit. In der historischen Wassermühle\, die heute ein Kulturzentrum ist\, atmet noch die Vergangenheit – so wie in der denkmalgeschützten Wassermühle in Karoxbostel. \nFotos: Bianca Schoebel\nZum Inhalt: Beim Aufräumen entdeckt eine Müllerin auf dem Dachboden eine historische Münze\, durch die sie eine Zeitreise erlebt. „Der Stein\, die Müllerin“ ist ein an Historie angelehntes Stück mit überraschenden Szenen mit Bezug zum Leben der Müllersleute und zur Umgebung bis ins „Ausland“. „So bezeichnete man damals zum Beispiel die ans Wendland angrenzende Altmark“\, erklärt Elke Martens\, die das Theaterstück geschrieben hat. „Es geht um das Leben und was die Menschen damals wie heute bewegt“\, sagt die Autorin\, Schauspielerin und Musikerin\, die als Müllerin selbst auf der Bühne steht. Musikalisch begleitet wird sie von ihrem Partner Thomas Breckheimer. Der Berufsmusiker war bereits mit Tom Waits auf Tournee und hat sich auch als Harfenlehrer und Veranstalter von Harfenfestivals einen Namen gemacht. Vor der eigentlichen Theateraufführung spielen Elke Martens (Flöte)\, Thomas Breckheimer (Harfe) und Marlen Breckheimer (Geige/Fiddle) zur Einstimmung zwei Musikstücke. Außerdem werden auf der Diele der Karoxbosteler Mühle einige historische Fotos aus dem Wendland-Archiv gezeigt\, die einen Eindruck vom früheren Leben auf dem Land vermitteln. Im Anschluss an die 70-minütige Theateraufführung halten Aktive des Mühlenvereins einen kleinen Imbiss und Getränke für die Gäste bereit\, die dann auch Gelegenheit haben\, mit den Künstlern zu plaudern. \nDer Eintritt kostet fünf Euro pro Person. Karten gibt es an der Abendkasse.
URL:https://www.wassermuehle-karoxbostel.de/event/theater-und-musik-der-stein-die-muellerin/
LOCATION:Wassermühle Karoxbostel\, Karoxbosteler Chaussee 51\, Seevetal OT Karoxbostel\, 21218
ATTACH;FMTTYPE=image/png:https://www.wassermuehle-karoxbostel.de/wp-content/uploads/2025/02/1-Der_Stein_die_Muellerin_es_klappert-Karox-B.M.4.png
END:VEVENT
BEGIN:VEVENT
DTSTART;TZID=Europe/Berlin:20250329T110000
DTEND;TZID=Europe/Berlin:20250329T133000
DTSTAMP:20260422T165635
CREATED:20250314T094501Z
LAST-MODIFIED:20250314T094514Z
UID:9964-1743246000-1743255000@www.wassermuehle-karoxbostel.de
SUMMARY:Frühjahrsputz rund um die Mühle
DESCRIPTION:Der Ortsrat Hittfeld\, Emmelndorf\, Helmstorf und Lindhorst laden mit der Wassermühle Karoxbostel am 29. März 2025 ein zum Frühjahrsputz ein.\nStart ist um 10 Uhr an der Wassermühle Karoxbostel\, um 12.30 Uhr gibt es  zum Abschluss ein Picknick. \nWir freuen uns auf viele freiwillige Helfer 🙂 \n 
URL:https://www.wassermuehle-karoxbostel.de/event/fruehjahrsputz-rund-um-die-muehle-3/
LOCATION:Wassermühle Karoxbostel\, Karoxbosteler Chaussee 51\, Seevetal OT Karoxbostel\, 21218
ATTACH;FMTTYPE=image/png:https://www.wassermuehle-karoxbostel.de/wp-content/uploads/2025/03/Fruehjahrsputz-2025.png
END:VEVENT
END:VCALENDAR